BEGIN:VCALENDAR
VERSION:2.0
PRODID:-//hacksw/handcal//NONSGML v1.0//EN
CALSCALE:GREGORIAN
BEGIN:VTIMEZONE
TZID:America/Chicago
BEGIN:DAYLIGHT
TZOFFSETFROM:-0600
TZNAME:MDT
TZOFFSETTO:-0600
END:DAYLIGHT
END:VTIMEZONE
DTSTAMP:20260421T223941Z
UID:69e842fd1d7d3
BEGIN:VEVENT
LOCATION:Sterlington Memorial Branch, 305 Keystone Rd, Monroe, LA US 71203
DESCRIPTION:<p>Story time for ages 6-12 years with an emphasis on STEM--Science, Technology, Engineering, and Math.</p>

DTSTART;TZID=America/Chicago:20250710T160000
DTEND;TZID=America/Chicago:20250710T170000
SUMMARY:STEM Story Time at Sterlington
URL;VALUE=URI:/story-time-sterlington-ages-6-12-years-98
END:VEVENT
END:VCALENDAR