BEGIN:VCALENDAR
VERSION:2.0
PRODID:-//hacksw/handcal//NONSGML v1.0//EN
CALSCALE:GREGORIAN
BEGIN:VTIMEZONE
TZID:America/Chicago
BEGIN:DAYLIGHT
TZOFFSETFROM:-0600
TZNAME:MDT
TZOFFSETTO:-0600
END:DAYLIGHT
END:VTIMEZONE
DTSTAMP:20260421T121144Z
UID:69e7afd0e9d21
BEGIN:VEVENT
LOCATION:Sterlington Memorial Branch, 305 Keystone Rd, Monroe, LA US 71203
DESCRIPTION:<p><strong>Age 13-18</strong></p><p>Color by number pixel art style of your favorite Five Nights at Freddy's characters.</p>
DTSTART;TZID=America/Chicago:20260505T153000
DTEND;TZID=America/Chicago:20260505T170000
SUMMARY:COMMUNITY SERVICE: FNAF PIXEL ART
URL;VALUE=URI:/community-service-fnaf-pixel-art-0
END:VEVENT
END:VCALENDAR