BEGIN:VCALENDAR
VERSION:2.0
PRODID:-//hacksw/handcal//NONSGML v1.0//EN
CALSCALE:GREGORIAN
BEGIN:VTIMEZONE
TZID:America/Chicago
BEGIN:DAYLIGHT
TZOFFSETFROM:-0600
TZNAME:MDT
TZOFFSETTO:-0600
END:DAYLIGHT
END:VTIMEZONE
DTSTAMP:20260420T223543Z
UID:69e6f08fa6de8
BEGIN:VEVENT
LOCATION:Louise Williams Branch, 140 Bayou Oaks Dr, Monroe, LA US 71203
DESCRIPTION:<table width="798">
	<tbody>
		<tr height="41">
			<td height="41" width="798">Join us and local non-profit, Ascent, for a "Holly Jolly Storytime" with Santa, who will read a story! Holiday crafts will be created.</td>
		</tr>
	</tbody>
</table>

DTSTART;TZID=America/Chicago:20241211T160000
DTEND;TZID=America/Chicago:20241211T170000
SUMMARY:Santa Storytime
URL;VALUE=URI:/events/santa-storytime
END:VEVENT
END:VCALENDAR